BEGIN:VCALENDAR
VERSION:2.0
PRODID:-//Newcastle Obesity Surgery - ECPv6.15.20//NONSGML v1.0//EN
CALSCALE:GREGORIAN
METHOD:PUBLISH
X-ORIGINAL-URL:https://www.newcastleobesitysurgery.com.au
X-WR-CALDESC:Events for Newcastle Obesity Surgery
REFRESH-INTERVAL;VALUE=DURATION:PT1H
X-Robots-Tag:noindex
X-PUBLISHED-TTL:PT1H
BEGIN:VTIMEZONE
TZID:Australia/Sydney
BEGIN:STANDARD
TZOFFSETFROM:+1100
TZOFFSETTO:+1000
TZNAME:AEST
DTSTART:20230401T160000
END:STANDARD
BEGIN:DAYLIGHT
TZOFFSETFROM:+1000
TZOFFSETTO:+1100
TZNAME:AEDT
DTSTART:20230930T160000
END:DAYLIGHT
BEGIN:STANDARD
TZOFFSETFROM:+1100
TZOFFSETTO:+1000
TZNAME:AEST
DTSTART:20240406T160000
END:STANDARD
BEGIN:DAYLIGHT
TZOFFSETFROM:+1000
TZOFFSETTO:+1100
TZNAME:AEDT
DTSTART:20241005T160000
END:DAYLIGHT
BEGIN:STANDARD
TZOFFSETFROM:+1100
TZOFFSETTO:+1000
TZNAME:AEST
DTSTART:20250405T160000
END:STANDARD
BEGIN:DAYLIGHT
TZOFFSETFROM:+1000
TZOFFSETTO:+1100
TZNAME:AEDT
DTSTART:20251004T160000
END:DAYLIGHT
END:VTIMEZONE
BEGIN:VEVENT
DTSTART;TZID=Australia/Sydney:20241106T190000
DTEND;TZID=Australia/Sydney:20241106T210000
DTSTAMP:20260422T200618
CREATED:20240213T040024Z
LAST-MODIFIED:20240927T033935Z
UID:3933-1730919600-1730926800@www.newcastleobesitysurgery.com.au
SUMMARY:Free Online Information Seminar
DESCRIPTION:Newcastle Obesity Surgery Centre run FREE online Information Seminars on the services and procedures we provide. The Seminars are presented on Zoom and usually run for approximately 1 and 1/2 hours. \nDr Wright presents the seminars himself making them an ideal opportunity to ask any questions you may have regarding any of the weight loss procedures we offer. You will also hear from our Dietitian\, Julie Christie and a previous patient who will present their own weight loss journey and will be happy to answer any questions you may have. \nTo register for the FREE Information Seminar please phone us on (02) 4032 8777 or fill out the form below and we will email you the seminar link.\n\n\n                \n                        \n                            Free on-line Seminar Registration\n                             \n                         \n \n                        FacebookThis field is for validation purposes and should be left unchanged.First Name*Last Name*Email*\n                            \n                        Phone*CAPTCHA
URL:https://www.newcastleobesitysurgery.com.au/seminar/free-seminar-9/
LOCATION:Online Seminar
ATTACH;FMTTYPE=image/jpeg:https://www.newcastleobesitysurgery.com.au/wp-content/uploads/2024/02/full-pic-of-Tim-1-scaled.jpg
END:VEVENT
BEGIN:VEVENT
DTSTART;TZID=Australia/Sydney:20241121T190000
DTEND;TZID=Australia/Sydney:20241121T210000
DTSTAMP:20260422T200618
CREATED:20240927T033633Z
LAST-MODIFIED:20240927T033918Z
UID:4219-1732215600-1732222800@www.newcastleobesitysurgery.com.au
SUMMARY:Free Online Information Seminar
DESCRIPTION:Newcastle Obesity Surgery Centre run FREE online Information Seminars on the services and procedures we provide. The Seminars are presented on Zoom and usually run for approximately 1 and 1/2 hours. \nDr Wright presents the seminars himself making them an ideal opportunity to ask any questions you may have regarding any of the weight loss procedures we offer. You will also hear from our Dietitian\, Julie Christie and a previous patient who will present their own weight loss journey and will be happy to answer any questions you may have. \nTo register for the FREE Information Seminar please phone us on (02) 4032 8777 or fill out the form below and we will email you the seminar link.\n\n                \n                        \n                            Free on-line Seminar Registration\n                             \n                         \n \n                        EmailThis field is for validation purposes and should be left unchanged.First Name*Last Name*Email*\n                            \n                        Phone*CAPTCHA
URL:https://www.newcastleobesitysurgery.com.au/seminar/free-online-information-seminar/
LOCATION:Online Seminar
ATTACH;FMTTYPE=image/jpeg:https://www.newcastleobesitysurgery.com.au/wp-content/uploads/2024/02/full-pic-of-Tim-1-scaled.jpg
END:VEVENT
END:VCALENDAR